BEGIN:VCALENDAR
VERSION:2.0
PRODID:-//REMAX Global Resources - ECPv6.15.17.1//NONSGML v1.0//EN
CALSCALE:GREGORIAN
METHOD:PUBLISH
X-ORIGINAL-URL:https://globalresources.remax.com
X-WR-CALDESC:Events for REMAX Global Resources
REFRESH-INTERVAL;VALUE=DURATION:PT1H
X-Robots-Tag:noindex
X-PUBLISHED-TTL:PT1H
BEGIN:VTIMEZONE
TZID:America/Los_Angeles
BEGIN:DAYLIGHT
TZOFFSETFROM:-0800
TZOFFSETTO:-0700
TZNAME:PDT
DTSTART:20240310T100000
END:DAYLIGHT
BEGIN:STANDARD
TZOFFSETFROM:-0700
TZOFFSETTO:-0800
TZNAME:PST
DTSTART:20241103T090000
END:STANDARD
BEGIN:DAYLIGHT
TZOFFSETFROM:-0800
TZOFFSETTO:-0700
TZNAME:PDT
DTSTART:20250309T100000
END:DAYLIGHT
BEGIN:STANDARD
TZOFFSETFROM:-0700
TZOFFSETTO:-0800
TZNAME:PST
DTSTART:20251102T090000
END:STANDARD
BEGIN:DAYLIGHT
TZOFFSETFROM:-0800
TZOFFSETTO:-0700
TZNAME:PDT
DTSTART:20260308T100000
END:DAYLIGHT
BEGIN:STANDARD
TZOFFSETFROM:-0700
TZOFFSETTO:-0800
TZNAME:PST
DTSTART:20261101T090000
END:STANDARD
END:VTIMEZONE
BEGIN:VTIMEZONE
TZID:America/Denver
BEGIN:DAYLIGHT
TZOFFSETFROM:-0700
TZOFFSETTO:-0600
TZNAME:MDT
DTSTART:20240310T090000
END:DAYLIGHT
BEGIN:STANDARD
TZOFFSETFROM:-0600
TZOFFSETTO:-0700
TZNAME:MST
DTSTART:20241103T080000
END:STANDARD
BEGIN:DAYLIGHT
TZOFFSETFROM:-0700
TZOFFSETTO:-0600
TZNAME:MDT
DTSTART:20250309T090000
END:DAYLIGHT
BEGIN:STANDARD
TZOFFSETFROM:-0600
TZOFFSETTO:-0700
TZNAME:MST
DTSTART:20251102T080000
END:STANDARD
BEGIN:DAYLIGHT
TZOFFSETFROM:-0700
TZOFFSETTO:-0600
TZNAME:MDT
DTSTART:20260308T090000
END:DAYLIGHT
BEGIN:STANDARD
TZOFFSETFROM:-0600
TZOFFSETTO:-0700
TZNAME:MST
DTSTART:20261101T080000
END:STANDARD
END:VTIMEZONE
BEGIN:VEVENT
DTSTART;VALUE=DATE:20250803
DTEND;VALUE=DATE:20250806
DTSTAMP:20260421T070228
CREATED:20240820T182928Z
LAST-MODIFIED:20250421T174322Z
UID:10000303-1754179200-1754438399@globalresources.remax.com
SUMMARY:2025 Broker Owner Conference
DESCRIPTION:Save the Date for the 2025 Broker Owner Conference! \nGrowth-minded business entrepreneurs have many reasons not to miss the annual RE/MAX Broker Owner Conference (BOC). One of them is to gain insight from leading industry professionals\, business coaches\, motivational speakers\, RE/MAX leaders\, and more. Join us for an invaluable networking experience. \nAugust 3-5\, 2025 \nMarriott Marquis – Washington D.C. \n  \n  \n  \n  \n 
URL:https://globalresources.remax.com/event/2025-broker-owner-conference/
CATEGORIES:Broker/Owner
ATTACH;FMTTYPE=image/jpeg:https://res.cloudinary.com/remax-prod/images/w_2560,h_1340,c_scale/f_auto,q_auto/v1757520638/us-global-resources-prod/2025-BOC-STD_1920x1005/2025-BOC-STD_1920x1005.jpg?_i=AA
END:VEVENT
BEGIN:VEVENT
DTSTART;VALUE=DATE:20250806
DTEND;VALUE=DATE:20250808
DTSTAMP:20260421T070228
CREATED:20250326T161949Z
LAST-MODIFIED:20250421T174009Z
UID:10000310-1754438400-1754611199@globalresources.remax.com
SUMMARY:New Agent Webinar - August 2025
DESCRIPTION:New Global Agents Sign Up Today! \nWe are excited to welcome you to the RE/MAX network and share the best tools in Real Estate which are now at your fingertips! \nAugust 6-7\, 2025 \nOnline Webinar \nRegister for an Upcoming Webinar Here! \n  \n  \n  \n  \n 
URL:https://globalresources.remax.com/event/new-agent-webinar-august-2025/
CATEGORIES:Agent,Broker/Owner,RE/MAX LLC Event,Training
ATTACH;FMTTYPE=image/png:https://res.cloudinary.com/remax-prod/images/f_auto,q_auto/v1757517788/us-global-resources-prod/new-agent-webinar-image/new-agent-webinar-image.png?_i=AA
END:VEVENT
BEGIN:VEVENT
DTSTART;TZID=America/Denver:20250807T090000
DTEND;TZID=America/Denver:20250807T101500
DTSTAMP:20260421T070228
CREATED:20250421T172755Z
LAST-MODIFIED:20250725T212558Z
UID:10000314-1754557200-1754561700@globalresources.remax.com
SUMMARY:2025 RE/MAX Commercial Pro Series
DESCRIPTION:REGISTER NOW FOR THE 2025 RE/MAX COMMERCIAL PRO SERIES! \nIntroducing a new Pro Series – a monthly webinar where top commercial real estate brokers share insights\, trends and strategies to help you stay elevated. \nUp Next:\nPresenter: Delanee Clark\, RE/MAX Landmark\nSession Topic: Land Real Estate Best Practices During Showings and Transactions \nUPCOMING DATE: \nThursday\, August 7\, 2025 \n9:00 AM – 10:15 AM MST \nREGISTER HERE
URL:https://globalresources.remax.com/event/2025-re-max-commercial-deal-calls-2/
CATEGORIES:Commercial,Global Region,Training
ATTACH;FMTTYPE=image/jpeg:https://res.cloudinary.com/remax-prod/images/f_auto,q_auto/v1757702302/us-global-resources-prod/Wordpress-Images-Templates-6/Wordpress-Images-Templates-6.jpg?_i=AA
END:VEVENT
BEGIN:VEVENT
DTSTART;TZID=America/Denver:20250814T090000
DTEND;TZID=America/Denver:20250814T103000
DTSTAMP:20260421T070228
CREATED:20250425T005304Z
LAST-MODIFIED:20250425T012905Z
UID:10000324-1755162000-1755167400@globalresources.remax.com
SUMMARY:2025 RE/MAX Commercial Deal Calls
DESCRIPTION:REGISTER IN ADVANCE TO ATTEND THE 2025 RE/MAX COMMERCIAL DEAL CALLS \nWe’re thrilled to invite you to an interactive event that showcases commercial listings. Our RE/MAX Commercial network has curated 15 commercial property opportunities that are available in the market right now. Deal Calls are scheduled for each quarter and our first call is happening next week! Please share with your Commercial Brokers. \nUPCOMING DATE: \nThursday\, August 14th\, 2025 \n9:00 AM – 10:30 AM MST \nREGISTER HERE
URL:https://globalresources.remax.com/event/2025-re-max-commercial-deal-calls-4/
CATEGORIES:Commercial,Global Region,Networking
ATTACH;FMTTYPE=image/jpeg:https://res.cloudinary.com/remax-prod/images/f_auto,q_auto/v1757702302/us-global-resources-prod/Wordpress-Images-Templates-6/Wordpress-Images-Templates-6.jpg?_i=AA
END:VEVENT
END:VCALENDAR