BEGIN:VCALENDAR
VERSION:2.0
PRODID:-//REMAX Global Resources - ECPv6.15.17.1//NONSGML v1.0//EN
CALSCALE:GREGORIAN
METHOD:PUBLISH
X-WR-CALNAME:REMAX Global Resources
X-ORIGINAL-URL:https://globalresources.remax.com
X-WR-CALDESC:Events for REMAX Global Resources
REFRESH-INTERVAL;VALUE=DURATION:PT1H
X-Robots-Tag:noindex
X-PUBLISHED-TTL:PT1H
BEGIN:VTIMEZONE
TZID:America/Toronto
BEGIN:DAYLIGHT
TZOFFSETFROM:-0500
TZOFFSETTO:-0400
TZNAME:EDT
DTSTART:20240310T070000
END:DAYLIGHT
BEGIN:STANDARD
TZOFFSETFROM:-0400
TZOFFSETTO:-0500
TZNAME:EST
DTSTART:20241103T060000
END:STANDARD
BEGIN:DAYLIGHT
TZOFFSETFROM:-0500
TZOFFSETTO:-0400
TZNAME:EDT
DTSTART:20250309T070000
END:DAYLIGHT
BEGIN:STANDARD
TZOFFSETFROM:-0400
TZOFFSETTO:-0500
TZNAME:EST
DTSTART:20251102T060000
END:STANDARD
BEGIN:DAYLIGHT
TZOFFSETFROM:-0500
TZOFFSETTO:-0400
TZNAME:EDT
DTSTART:20260308T070000
END:DAYLIGHT
BEGIN:STANDARD
TZOFFSETFROM:-0400
TZOFFSETTO:-0500
TZNAME:EST
DTSTART:20261101T060000
END:STANDARD
END:VTIMEZONE
BEGIN:VTIMEZONE
TZID:America/Denver
BEGIN:DAYLIGHT
TZOFFSETFROM:-0700
TZOFFSETTO:-0600
TZNAME:MDT
DTSTART:20240310T090000
END:DAYLIGHT
BEGIN:STANDARD
TZOFFSETFROM:-0600
TZOFFSETTO:-0700
TZNAME:MST
DTSTART:20241103T080000
END:STANDARD
BEGIN:DAYLIGHT
TZOFFSETFROM:-0700
TZOFFSETTO:-0600
TZNAME:MDT
DTSTART:20250309T090000
END:DAYLIGHT
BEGIN:STANDARD
TZOFFSETFROM:-0600
TZOFFSETTO:-0700
TZNAME:MST
DTSTART:20251102T080000
END:STANDARD
BEGIN:DAYLIGHT
TZOFFSETFROM:-0700
TZOFFSETTO:-0600
TZNAME:MDT
DTSTART:20260308T090000
END:DAYLIGHT
BEGIN:STANDARD
TZOFFSETFROM:-0600
TZOFFSETTO:-0700
TZNAME:MST
DTSTART:20261101T080000
END:STANDARD
END:VTIMEZONE
BEGIN:VEVENT
DTSTART;VALUE=DATE:20250702
DTEND;VALUE=DATE:20250706
DTSTAMP:20260421T145743
CREATED:20241017T161322Z
LAST-MODIFIED:20250429T152006Z
UID:10000307-1751414400-1751759999@globalresources.remax.com
SUMMARY:2025 RE/MAX Asia Pacific Convention - Mongolia
DESCRIPTION:2025 RE/MAX Asia Pacific Convention \nSave your spot and take part in the networking\, collaboration and education of this year’s Asia Pacific Convention! \n2-5 July\, 2025 \nUlaanbaatar\, Mongolia \nClick Here to Register Now! \n \n  \n  \n  \n  \n  \n 
URL:https://globalresources.remax.com/event/save-the-date-re-max-asia-pacific-convention-2025-ulaanbaatar-mongolia/
CATEGORIES:Broker/Owner,Global Region,Kickstart,Networking
ATTACH;FMTTYPE=image/png:https://res.cloudinary.com/remax-prod/images/f_auto,q_auto/v1757519585/us-global-resources-prod/tv-led-1920x1080-text-/tv-led-1920x1080-text-.png?_i=AA
END:VEVENT
BEGIN:VEVENT
DTSTART;TZID=America/Denver:20250710T090000
DTEND;TZID=America/Denver:20250710T101500
DTSTAMP:20260421T145743
CREATED:20250425T002609Z
LAST-MODIFIED:20250626T225938Z
UID:10000318-1752138000-1752142500@globalresources.remax.com
SUMMARY:2025 RE/MAX Commercial Pro Series
DESCRIPTION:REGISTER NOW FOR THE 2025 RE/MAX COMMERCIAL PRO SERIES! \nIntroducing a new Pro Series – a monthly webinar where top commercial real estate brokers share insights\, trends and strategies to help you stay elevated. \nUp Next:\nPresenter: Michael Hwang and Charles Wiebe\, RE/MAX Commercial Advantage\nSession Topic: Business Brokerage Essentials \nKey Topics Included in this Session:\n• The opportunity to fill the gap in licensing requirement for a business broker in most jurisdictions\n• How business brokerage differs from commercial real estate and why it requires specialized knowledge and different approaches\n• Common mistakes business owners and agents make when trying to sell a business—and how to avoid them\n• A practical roadmap for listing and marketing a business confidentially\, including NDAs\, buyer screening\, and CIMs\n• How RE/MAX agents can leverage their local knowledge and relationships to generate leads and build a business brokerage niche\n• A proposed framework for a RE/MAX Business Brokerage Certification to empower agents across the network \nUPCOMING DATE: \nThursday\, July 10\, 2025 \n9:00 AM – 10:15 AM MST \nREGISTER HERE
URL:https://globalresources.remax.com/event/2025-re-max-commercial-pro-series-3/
CATEGORIES:Commercial,Global Region,Training
ATTACH;FMTTYPE=image/jpeg:https://res.cloudinary.com/remax-prod/images/f_auto,q_auto/v1757702302/us-global-resources-prod/Wordpress-Images-Templates-6/Wordpress-Images-Templates-6.jpg?_i=AA
END:VEVENT
END:VCALENDAR