BEGIN:VCALENDAR
VERSION:2.0
PRODID:-//REMAX Global Resources - ECPv6.15.17.1//NONSGML v1.0//EN
CALSCALE:GREGORIAN
METHOD:PUBLISH
X-ORIGINAL-URL:https://globalresources.remax.com
X-WR-CALDESC:Events for REMAX Global Resources
REFRESH-INTERVAL;VALUE=DURATION:PT1H
X-Robots-Tag:noindex
X-PUBLISHED-TTL:PT1H
BEGIN:VTIMEZONE
TZID:America/Denver
BEGIN:DAYLIGHT
TZOFFSETFROM:-0700
TZOFFSETTO:-0600
TZNAME:MDT
DTSTART:20240310T090000
END:DAYLIGHT
BEGIN:STANDARD
TZOFFSETFROM:-0600
TZOFFSETTO:-0700
TZNAME:MST
DTSTART:20241103T080000
END:STANDARD
BEGIN:DAYLIGHT
TZOFFSETFROM:-0700
TZOFFSETTO:-0600
TZNAME:MDT
DTSTART:20250309T090000
END:DAYLIGHT
BEGIN:STANDARD
TZOFFSETFROM:-0600
TZOFFSETTO:-0700
TZNAME:MST
DTSTART:20251102T080000
END:STANDARD
BEGIN:DAYLIGHT
TZOFFSETFROM:-0700
TZOFFSETTO:-0600
TZNAME:MDT
DTSTART:20260308T090000
END:DAYLIGHT
BEGIN:STANDARD
TZOFFSETFROM:-0600
TZOFFSETTO:-0700
TZNAME:MST
DTSTART:20261101T080000
END:STANDARD
END:VTIMEZONE
BEGIN:VTIMEZONE
TZID:America/Los_Angeles
BEGIN:DAYLIGHT
TZOFFSETFROM:-0800
TZOFFSETTO:-0700
TZNAME:PDT
DTSTART:20240310T100000
END:DAYLIGHT
BEGIN:STANDARD
TZOFFSETFROM:-0700
TZOFFSETTO:-0800
TZNAME:PST
DTSTART:20241103T090000
END:STANDARD
BEGIN:DAYLIGHT
TZOFFSETFROM:-0800
TZOFFSETTO:-0700
TZNAME:PDT
DTSTART:20250309T100000
END:DAYLIGHT
BEGIN:STANDARD
TZOFFSETFROM:-0700
TZOFFSETTO:-0800
TZNAME:PST
DTSTART:20251102T090000
END:STANDARD
BEGIN:DAYLIGHT
TZOFFSETFROM:-0800
TZOFFSETTO:-0700
TZNAME:PDT
DTSTART:20260308T100000
END:DAYLIGHT
BEGIN:STANDARD
TZOFFSETFROM:-0700
TZOFFSETTO:-0800
TZNAME:PST
DTSTART:20261101T090000
END:STANDARD
END:VTIMEZONE
BEGIN:VTIMEZONE
TZID:America/Toronto
BEGIN:DAYLIGHT
TZOFFSETFROM:-0500
TZOFFSETTO:-0400
TZNAME:EDT
DTSTART:20240310T070000
END:DAYLIGHT
BEGIN:STANDARD
TZOFFSETFROM:-0400
TZOFFSETTO:-0500
TZNAME:EST
DTSTART:20241103T060000
END:STANDARD
BEGIN:DAYLIGHT
TZOFFSETFROM:-0500
TZOFFSETTO:-0400
TZNAME:EDT
DTSTART:20250309T070000
END:DAYLIGHT
BEGIN:STANDARD
TZOFFSETFROM:-0400
TZOFFSETTO:-0500
TZNAME:EST
DTSTART:20251102T060000
END:STANDARD
BEGIN:DAYLIGHT
TZOFFSETFROM:-0500
TZOFFSETTO:-0400
TZNAME:EDT
DTSTART:20260308T070000
END:DAYLIGHT
BEGIN:STANDARD
TZOFFSETFROM:-0400
TZOFFSETTO:-0500
TZNAME:EST
DTSTART:20261101T060000
END:STANDARD
END:VTIMEZONE
BEGIN:VEVENT
DTSTART;TZID=America/Denver:20250501T090000
DTEND;TZID=America/Denver:20250501T101500
DTSTAMP:20260422T044126
CREATED:20250425T002417Z
LAST-MODIFIED:20250501T132912Z
UID:10000316-1746090000-1746094500@globalresources.remax.com
SUMMARY:2025 RE/MAX Commercial Pro Series
DESCRIPTION:REGISTER NOW FOR THE 2025 RE/MAX COMMERCIAL PRO SERIES! \nIntroducing a new Pro Series – a monthly webinar where top commercial real estate brokers share insights\, trends and strategies to help you stay elevated. \nKicking it off:\nPresenter: Mark Hulsey\, RE/MAX Results Commercial\nSession Title: Your Customized Prospecting Plan: An Excel Workbook Guide \nSession Description:\nMark will walk you through a powerful prospecting workbook designed to help you develop and market your commercial real estate business using human intelligence\, AI\, or a hybrid of both. This session is perfect for agents looking to refresh or elevate their approach to lead generation and business planning. \nUPCOMING DATE: \nThursday\, May 1\, 2025 \n9:00 AM – 10:15 AM MST \nREGISTER HERE
URL:https://globalresources.remax.com/event/2025-re-max-commercial-pro-series/
CATEGORIES:Commercial,Global Region,Training
ATTACH;FMTTYPE=image/jpeg:https://res.cloudinary.com/remax-prod/images/f_auto,q_auto/v1757702302/us-global-resources-prod/Wordpress-Images-Templates-6/Wordpress-Images-Templates-6.jpg?_i=AA
END:VEVENT
BEGIN:VEVENT
DTSTART;VALUE=DATE:20250507
DTEND;VALUE=DATE:20250509
DTSTAMP:20260422T044126
CREATED:20250326T161737Z
LAST-MODIFIED:20250501T133024Z
UID:10000309-1746576000-1746748799@globalresources.remax.com
SUMMARY:New Agent Webinar - May 2025
DESCRIPTION:New Global Agents Sign Up Today! \nWe are excited to welcome you to the RE/MAX network and share the best tools in Real Estate which are now at your fingertips! \nMay 7-8\, 2025 \nOnline Webinar \nRegister for an Upcoming Webinar Here! \n  \n  \n  \n  \n 
URL:https://globalresources.remax.com/event/new-agent-webinar-may-2025/
CATEGORIES:Agent,Broker/Owner,RE/MAX LLC Event,Training
ATTACH;FMTTYPE=image/png:https://res.cloudinary.com/remax-prod/images/f_auto,q_auto/v1757517788/us-global-resources-prod/new-agent-webinar-image/new-agent-webinar-image.png?_i=AA
END:VEVENT
BEGIN:VEVENT
DTSTART;TZID=America/Denver:20250508T090000
DTEND;TZID=America/Denver:20250508T103000
DTSTAMP:20260422T044126
CREATED:20250421T172658Z
LAST-MODIFIED:20250501T133028Z
UID:10000313-1746694800-1746700200@globalresources.remax.com
SUMMARY:2025 RE/MAX Commercial Deal Calls
DESCRIPTION:REGISTER IN ADVANCE TO ATTEND THE 2025 RE/MAX COMMERCIAL DEAL CALLS \nWe’re thrilled to invite you to an interactive event that showcases commercial listings. Our RE/MAX Commercial network has curated 15 commercial property opportunities that are available in the market right now. Deal Calls are scheduled for each quarter and our first call is happening next week! Please share with your Commercial Brokers. \nUPCOMING DATE: \nThursday\, May 8th\, 2025 \n9:00 AM – 10:30 AM MST \nREGISTER HERE
URL:https://globalresources.remax.com/event/2025-re-max-commercial-deal-calls/
CATEGORIES:Broker/Owner,Global Region,Networking
ATTACH;FMTTYPE=image/jpeg:https://res.cloudinary.com/remax-prod/images/w_2560,h_1337,c_scale/f_auto,q_auto/v1757517988/us-global-resources-prod/24_831-CML-Deal-Calls-Image-Social-jm-jpg/24_831-CML-Deal-Calls-Image-Social-jm-jpg.jpg?_i=AA
END:VEVENT
BEGIN:VEVENT
DTSTART;VALUE=DATE:20250515
DTEND;VALUE=DATE:20250517
DTSTAMP:20260422T044126
CREATED:20250417T190113Z
LAST-MODIFIED:20250501T133032Z
UID:10000312-1747267200-1747439999@globalresources.remax.com
SUMMARY:RE/MAX France Convention 2025
DESCRIPTION:RE/MAX France Convention 2025\nDijon\, France\n \nThe 2025 edition of the RE/MAX France Convention will be held at the City of Gastronomy and Wine in Dijon!\n\nThis unmissable event will be an opportunity to share inspiring moments with exceptional speakers\, who will reveal best practices for achieving success.\nAs a highlight\, an exceptional gala evening will enhance the event in an elegant and festive atmosphere: refined cocktail\, awards ceremony celebrating the best agencies and agents of the year 2024\, followed by a lively evening to dance and celebrate these memorable successes together.\nAre you ready to take off to new heights?\nRegister now\, places are limited!\n\nThe entire RE/MAX France team looks forward to welcoming you to this unique event.\nSee you soon!\nREGISTER HERE \n\n  \n  \n  \n 
URL:https://globalresources.remax.com/event/re-max-france-convention-2025/
CATEGORIES:Broker/Owner,Global Region,Kickstart,Networking
ATTACH;FMTTYPE=image/png:https://res.cloudinary.com/remax-prod/images/f_auto,q_auto/v1757519580/us-global-resources-prod/convention-re-max-france-2025/convention-re-max-france-2025.png?_i=AA
END:VEVENT
END:VCALENDAR