BEGIN:VCALENDAR
VERSION:2.0
PRODID:-//REMAX Global Resources - ECPv6.15.17.1//NONSGML v1.0//EN
CALSCALE:GREGORIAN
METHOD:PUBLISH
X-ORIGINAL-URL:https://globalresources.remax.com
X-WR-CALDESC:Events for REMAX Global Resources
REFRESH-INTERVAL;VALUE=DURATION:PT1H
X-Robots-Tag:noindex
X-PUBLISHED-TTL:PT1H
BEGIN:VTIMEZONE
TZID:America/Toronto
BEGIN:DAYLIGHT
TZOFFSETFROM:-0500
TZOFFSETTO:-0400
TZNAME:EDT
DTSTART:20240310T070000
END:DAYLIGHT
BEGIN:STANDARD
TZOFFSETFROM:-0400
TZOFFSETTO:-0500
TZNAME:EST
DTSTART:20241103T060000
END:STANDARD
BEGIN:DAYLIGHT
TZOFFSETFROM:-0500
TZOFFSETTO:-0400
TZNAME:EDT
DTSTART:20250309T070000
END:DAYLIGHT
BEGIN:STANDARD
TZOFFSETFROM:-0400
TZOFFSETTO:-0500
TZNAME:EST
DTSTART:20251102T060000
END:STANDARD
BEGIN:DAYLIGHT
TZOFFSETFROM:-0500
TZOFFSETTO:-0400
TZNAME:EDT
DTSTART:20260308T070000
END:DAYLIGHT
BEGIN:STANDARD
TZOFFSETFROM:-0400
TZOFFSETTO:-0500
TZNAME:EST
DTSTART:20261101T060000
END:STANDARD
END:VTIMEZONE
BEGIN:VEVENT
DTSTART;VALUE=DATE:20250119
DTEND;VALUE=DATE:20250122
DTSTAMP:20260422T154403
CREATED:20241017T154111Z
LAST-MODIFIED:20241021T172108Z
UID:10000305-1737244800-1737503999@globalresources.remax.com
SUMMARY:RE/MAX #OneWIRE— One World | One India | One RE/MAX - Goa\, India
DESCRIPTION:  \nWe’re excited to announce our upcoming Annual Convention\, RE/MAX #OneWIRE—One World | One India | One RE/MAX\, which will take place in Goa from January 19 to 21\, 2025\, at Big Daddy Casino and Diaz Pool Club. This exciting event will showcase India’s vibrant essence and enriching sessions led by national and international speakers.We would love to have you as a part of this incredible experience filled with learning\, networking\, and fun! Along with fun\, party and celebration\, there will be exclusive training\, panel discussion\, power speaker\, motivational sessions\, awards\, etc\, making it an excellent opportunity for growth. \nTo know more about the event\, please get in touch with us at WhatsApp no. +918368719302 or email us at events@remax.in \nWe look forward to seeing you at the convention and celebrating this fantastic event together. \nRegister TODAY!
URL:https://globalresources.remax.com/event/re-max-onewire-one-world-one-india-one-re-max-goa-india/
CATEGORIES:Broker/Owner,Global Region,Kickstart,Networking
ATTACH;FMTTYPE=image/jpeg:https://res.cloudinary.com/remax-prod/images/f_auto,q_auto/v1757519593/us-global-resources-prod/WhatsApp-Image-2024-10-15-at-7.02.17-AM/WhatsApp-Image-2024-10-15-at-7.02.17-AM.jpeg?_i=AA
END:VEVENT
END:VCALENDAR