BEGIN:VCALENDAR
VERSION:2.0
PRODID:-//REMAX Global Resources - ECPv6.15.17.1//NONSGML v1.0//EN
CALSCALE:GREGORIAN
METHOD:PUBLISH
X-WR-CALNAME:REMAX Global Resources
X-ORIGINAL-URL:https://globalresources.remax.com
X-WR-CALDESC:Events for REMAX Global Resources
REFRESH-INTERVAL;VALUE=DURATION:PT1H
X-Robots-Tag:noindex
X-PUBLISHED-TTL:PT1H
BEGIN:VTIMEZONE
TZID:America/Denver
BEGIN:DAYLIGHT
TZOFFSETFROM:-0700
TZOFFSETTO:-0600
TZNAME:MDT
DTSTART:20230312T090000
END:DAYLIGHT
BEGIN:STANDARD
TZOFFSETFROM:-0600
TZOFFSETTO:-0700
TZNAME:MST
DTSTART:20231105T080000
END:STANDARD
BEGIN:DAYLIGHT
TZOFFSETFROM:-0700
TZOFFSETTO:-0600
TZNAME:MDT
DTSTART:20240310T090000
END:DAYLIGHT
BEGIN:STANDARD
TZOFFSETFROM:-0600
TZOFFSETTO:-0700
TZNAME:MST
DTSTART:20241103T080000
END:STANDARD
BEGIN:DAYLIGHT
TZOFFSETFROM:-0700
TZOFFSETTO:-0600
TZNAME:MDT
DTSTART:20250309T090000
END:DAYLIGHT
BEGIN:STANDARD
TZOFFSETFROM:-0600
TZOFFSETTO:-0700
TZNAME:MST
DTSTART:20251102T080000
END:STANDARD
END:VTIMEZONE
BEGIN:VEVENT
DTSTART;VALUE=DATE:20241106
DTEND;VALUE=DATE:20241108
DTSTAMP:20260422T220408
CREATED:20240416T212917Z
LAST-MODIFIED:20240416T212917Z
UID:10000281-1730851200-1731023999@globalresources.remax.com
SUMMARY:New Agent Webinar
DESCRIPTION:We are excited to welcome you to the RE/MAX network and share the best tools in Real Estate which \nare now at your fingertips! \n 
URL:https://globalresources.remax.com/event/new-agent-webinar-3/
CATEGORIES:Broker/Owner,Global Region,Networking
ATTACH;FMTTYPE=image/png:https://res.cloudinary.com/remax-prod/images/f_auto,q_auto/v1757518411/us-global-resources-prod/Copy-of-Wordpress-Hero-Image-Templates/Copy-of-Wordpress-Hero-Image-Templates.png?_i=AA
END:VEVENT
BEGIN:VEVENT
DTSTART;TZID=America/Denver:20241114T090000
DTEND;TZID=America/Denver:20241114T100000
DTSTAMP:20260422T220408
CREATED:20240820T175700Z
LAST-MODIFIED:20240820T175701Z
UID:10000300-1731574800-1731578400@globalresources.remax.com
SUMMARY:2024 RE/MAX Commercial Deal Calls
DESCRIPTION:REGISTER IN ADVANCE TO ATTEND THE 2024 RE/MAX COMMERCIAL DEAL CALLS \nWe’re thrilled to invite you to an interactive event that showcases commercial listings. Our RE/MAX Commercial network has curated 15 commercial property opportunities that are available in the market right now. Deal Calls are scheduled for each quarter and our first call is happening next week! Please share with your Commercial Brokers. \nUPCOMING DATES: \nNovember 14th\, 2024 \n9:00 AM – 10:00 AM MST \nREGISTER HERE
URL:https://globalresources.remax.com/event/2024-re-max-commercial-deal-calls-2/
CATEGORIES:Broker/Owner,Global Region,Networking
ATTACH;FMTTYPE=image/png:https://res.cloudinary.com/remax-prod/images/f_auto,q_auto/v1757520428/us-global-resources-prod/2024-Commercial-Deal-Call-Graphics/2024-Commercial-Deal-Call-Graphics.png?_i=AA
END:VEVENT
END:VCALENDAR