BEGIN:VCALENDAR
VERSION:2.0
PRODID:-//REMAX Global Resources - ECPv6.15.17.1//NONSGML v1.0//EN
CALSCALE:GREGORIAN
METHOD:PUBLISH
X-ORIGINAL-URL:https://globalresources.remax.com
X-WR-CALDESC:Events for REMAX Global Resources
REFRESH-INTERVAL;VALUE=DURATION:PT1H
X-Robots-Tag:noindex
X-PUBLISHED-TTL:PT1H
BEGIN:VTIMEZONE
TZID:America/Toronto
BEGIN:DAYLIGHT
TZOFFSETFROM:-0500
TZOFFSETTO:-0400
TZNAME:EDT
DTSTART:20230312T070000
END:DAYLIGHT
BEGIN:STANDARD
TZOFFSETFROM:-0400
TZOFFSETTO:-0500
TZNAME:EST
DTSTART:20231105T060000
END:STANDARD
BEGIN:DAYLIGHT
TZOFFSETFROM:-0500
TZOFFSETTO:-0400
TZNAME:EDT
DTSTART:20240310T070000
END:DAYLIGHT
BEGIN:STANDARD
TZOFFSETFROM:-0400
TZOFFSETTO:-0500
TZNAME:EST
DTSTART:20241103T060000
END:STANDARD
BEGIN:DAYLIGHT
TZOFFSETFROM:-0500
TZOFFSETTO:-0400
TZNAME:EDT
DTSTART:20250309T070000
END:DAYLIGHT
BEGIN:STANDARD
TZOFFSETFROM:-0400
TZOFFSETTO:-0500
TZNAME:EST
DTSTART:20251102T060000
END:STANDARD
END:VTIMEZONE
BEGIN:VEVENT
DTSTART;VALUE=DATE:20240610
DTEND;VALUE=DATE:20240613
DTSTAMP:20260423T172238
CREATED:20230803T192736Z
LAST-MODIFIED:20240429T173059Z
UID:10000260-1717977600-1718236799@globalresources.remax.com
SUMMARY:2024 Global Commercial Symposium
DESCRIPTION: 2024 RE/MAX Global Commercial Symposium \nRegistration is now open! \nTampa Marriott Water Street \nJune 10-12\, 2024 \nTampa\, FL \n 
URL:https://globalresources.remax.com/event/save-the-date-2024-global-commercial-symposium/
CATEGORIES:Networking
ATTACH;FMTTYPE=image/png:https://res.cloudinary.com/remax-prod/images/f_auto,q_auto/v1757518541/us-global-resources-prod/1690910908_blob_hero/1690910908_blob_hero.png?_i=AA
END:VEVENT
BEGIN:VEVENT
DTSTART;VALUE=DATE:20240618
DTEND;VALUE=DATE:20240620
DTSTAMP:20260423T172238
CREATED:20230814T163326Z
LAST-MODIFIED:20240429T164311Z
UID:10000263-1718668800-1718841599@globalresources.remax.com
SUMMARY:The RE/MAX Collection 2024 Luxury Forum
DESCRIPTION:Save the date for The RE/MAX Collection 2024 Luxury Forum! \nJune 18-19\, 2024 \nThe Ritz-Carlton Lake Tahoe\, California \nAn annual event where luxury agents are invited to network with other industry influencers and learn new ways to expand their business. The RE/MAX Collection 2024 Luxury Forum features well-known RE/MAX® colleagues\, industry leaders and panelists sharing key takeaways about what’s driving their business. This opportunity comes with invaluable advantages. Invest in yourself and your business by collaborating with luxury top producers to open the door to luxurious living.
URL:https://globalresources.remax.com/event/save-the-date-the-re-max-collection-2024-luxury-forum/
CATEGORIES:Networking
ATTACH;FMTTYPE=image/png:https://res.cloudinary.com/remax-prod/images/f_auto,q_auto/v1757518551/us-global-resources-prod/1688586893_blob_hero/1688586893_blob_hero.png?_i=AA
END:VEVENT
END:VCALENDAR