BEGIN:VCALENDAR
VERSION:2.0
PRODID:-//REMAX Global Resources - ECPv6.15.17.1//NONSGML v1.0//EN
CALSCALE:GREGORIAN
METHOD:PUBLISH
X-ORIGINAL-URL:https://globalresources.remax.com
X-WR-CALDESC:Events for REMAX Global Resources
REFRESH-INTERVAL;VALUE=DURATION:PT1H
X-Robots-Tag:noindex
X-PUBLISHED-TTL:PT1H
BEGIN:VTIMEZONE
TZID:Asia/Kolkata
BEGIN:STANDARD
TZOFFSETFROM:+0530
TZOFFSETTO:+0530
TZNAME:IST
DTSTART:20230101T000000
END:STANDARD
END:VTIMEZONE
BEGIN:VEVENT
DTSTART;VALUE=DATE:20240209
DTEND;VALUE=DATE:20240212
DTSTAMP:20260424T092132
CREATED:20240130T003105Z
LAST-MODIFIED:20240130T010546Z
UID:10000271-1707436800-1707695999@globalresources.remax.com
SUMMARY:2024 RE/MAX India Convention
DESCRIPTION:RE/MAX India Annual Convention is scheduled on 9-11th Feb 2024 in Goa.  \nIt will be one and half-day training that includes team building and education. We would love to see you there! Please email events@remax.ind.in for questions.
URL:https://globalresources.remax.com/event/save-the-date-2024-re-max-india-convention/
CATEGORIES:Broker/Owner,Global Region,Networking
ATTACH;FMTTYPE=image/jpeg:https://res.cloudinary.com/remax-prod/images/f_auto,q_auto/v1757518505/us-global-resources-prod/WhatsApp-Image-2024-01-11-at-10.28.56-AM/WhatsApp-Image-2024-01-11-at-10.28.56-AM.jpeg?_i=AA
END:VEVENT
END:VCALENDAR